BEGIN:VCALENDAR
VERSION:2.0
PRODID:-//Foundation for Orthopaedic Research and Education (FORE) - ECPv6.15.17.1//NONSGML v1.0//EN
CALSCALE:GREGORIAN
METHOD:PUBLISH
X-WR-CALNAME:Foundation for Orthopaedic Research and Education (FORE)
X-ORIGINAL-URL:https://foreonline.org
X-WR-CALDESC:Events for Foundation for Orthopaedic Research and Education (FORE)
REFRESH-INTERVAL;VALUE=DURATION:PT1H
X-Robots-Tag:noindex
X-PUBLISHED-TTL:PT1H
BEGIN:VTIMEZONE
TZID:America/Halifax
BEGIN:DAYLIGHT
TZOFFSETFROM:-0400
TZOFFSETTO:-0300
TZNAME:ADT
DTSTART:20200308T060000
END:DAYLIGHT
BEGIN:STANDARD
TZOFFSETFROM:-0300
TZOFFSETTO:-0400
TZNAME:AST
DTSTART:20201101T050000
END:STANDARD
BEGIN:DAYLIGHT
TZOFFSETFROM:-0400
TZOFFSETTO:-0300
TZNAME:ADT
DTSTART:20210314T060000
END:DAYLIGHT
BEGIN:STANDARD
TZOFFSETFROM:-0300
TZOFFSETTO:-0400
TZNAME:AST
DTSTART:20211107T050000
END:STANDARD
BEGIN:DAYLIGHT
TZOFFSETFROM:-0400
TZOFFSETTO:-0300
TZNAME:ADT
DTSTART:20220313T060000
END:DAYLIGHT
BEGIN:STANDARD
TZOFFSETFROM:-0300
TZOFFSETTO:-0400
TZNAME:AST
DTSTART:20221106T050000
END:STANDARD
END:VTIMEZONE
BEGIN:VEVENT
DTSTART;VALUE=DATE:20210723
DTEND;VALUE=DATE:20210726
DTSTAMP:20260424T153852
CREATED:20150925T141242Z
LAST-MODIFIED:20210223T170532Z
UID:1890-1626998400-1627257599@foreonline.org
SUMMARY:13th Annual Orthopaedics for the Primary Care Practitioner & Rehabilitation Therapist
DESCRIPTION:If you are not re-directed to our new CVENT registration site\, please click here. 
URL:https://foreonline.org/event/primarycareortho-2021/
LOCATION:The Sandpearl Resort\, 500 Mandalay Boulevard\, Clearwater\, FL\, 33767\, United States
ATTACH;FMTTYPE=image/jpeg:https://foreonline.org/wp-content/uploads/2015/09/2021_PCP_Register_Banner.jpg
END:VEVENT
BEGIN:VEVENT
DTSTART;VALUE=DATE:20210729
DTEND;VALUE=DATE:20210731
DTSTAMP:20260424T153852
CREATED:20160301T200236Z
LAST-MODIFIED:20210518T192147Z
UID:3219-1627516800-1627689599@foreonline.org
SUMMARY:12th Annual Detroit Sports Medicine Symposium
DESCRIPTION:  \nIf you are not re-directed to our new CVENT registration site\, please click here. 
URL:https://foreonline.org/event/detroit2021/
LOCATION:Inn at St. John’s\, 44045 Five Mile Road\, Plymouth\, MI\, 48170\, United States
ATTACH;FMTTYPE=image/jpeg:https://foreonline.org/wp-content/uploads/2016/03/2021_Detroit_Register_Banner.jpg
END:VEVENT
END:VCALENDAR