BEGIN:VCALENDAR
VERSION:2.0
PRODID:-//Foundation for Orthopaedic Research and Education (FORE) - ECPv6.15.17.1//NONSGML v1.0//EN
CALSCALE:GREGORIAN
METHOD:PUBLISH
X-ORIGINAL-URL:https://foreonline.org
X-WR-CALDESC:Events for Foundation for Orthopaedic Research and Education (FORE)
REFRESH-INTERVAL;VALUE=DURATION:PT1H
X-Robots-Tag:noindex
X-PUBLISHED-TTL:PT1H
BEGIN:VTIMEZONE
TZID:America/Halifax
BEGIN:DAYLIGHT
TZOFFSETFROM:-0400
TZOFFSETTO:-0300
TZNAME:ADT
DTSTART:20200308T060000
END:DAYLIGHT
BEGIN:STANDARD
TZOFFSETFROM:-0300
TZOFFSETTO:-0400
TZNAME:AST
DTSTART:20201101T050000
END:STANDARD
BEGIN:DAYLIGHT
TZOFFSETFROM:-0400
TZOFFSETTO:-0300
TZNAME:ADT
DTSTART:20210314T060000
END:DAYLIGHT
BEGIN:STANDARD
TZOFFSETFROM:-0300
TZOFFSETTO:-0400
TZNAME:AST
DTSTART:20211107T050000
END:STANDARD
BEGIN:DAYLIGHT
TZOFFSETFROM:-0400
TZOFFSETTO:-0300
TZNAME:ADT
DTSTART:20220313T060000
END:DAYLIGHT
BEGIN:STANDARD
TZOFFSETFROM:-0300
TZOFFSETTO:-0400
TZNAME:AST
DTSTART:20221106T050000
END:STANDARD
END:VTIMEZONE
BEGIN:VEVENT
DTSTART;VALUE=DATE:20210114
DTEND;VALUE=DATE:20210117
DTSTAMP:20260425T003143
CREATED:20150924T160400Z
LAST-MODIFIED:20210104T194317Z
UID:1738-1610582400-1610841599@foreonline.org
SUMMARY:11th Annual Orthopaedic Trauma & Fracture Care: Pushing the Envelope
DESCRIPTION:If you are not re-directed to our new CVENT registration site\, please click here. 
URL:https://foreonline.org/event/otfc-2021/
LOCATION:Hyatt Regency La Jolla\, 3777 La Jolla Village Drive\, San Diego\, CA\, 92122\, United States
ATTACH;FMTTYPE=image/jpeg:https://foreonline.org/wp-content/uploads/2021/01/2021_SDT_Register-Banner.jpg
END:VEVENT
END:VCALENDAR