BEGIN:VCALENDAR
VERSION:2.0
PRODID:-//Foundation for Orthopaedic Research and Education (FORE) - ECPv6.15.17.1//NONSGML v1.0//EN
CALSCALE:GREGORIAN
METHOD:PUBLISH
X-ORIGINAL-URL:https://foreonline.org
X-WR-CALDESC:Events for Foundation for Orthopaedic Research and Education (FORE)
REFRESH-INTERVAL;VALUE=DURATION:PT1H
X-Robots-Tag:noindex
X-PUBLISHED-TTL:PT1H
BEGIN:VTIMEZONE
TZID:America/Halifax
BEGIN:DAYLIGHT
TZOFFSETFROM:-0400
TZOFFSETTO:-0300
TZNAME:ADT
DTSTART:20250309T060000
END:DAYLIGHT
BEGIN:STANDARD
TZOFFSETFROM:-0300
TZOFFSETTO:-0400
TZNAME:AST
DTSTART:20251102T050000
END:STANDARD
BEGIN:DAYLIGHT
TZOFFSETFROM:-0400
TZOFFSETTO:-0300
TZNAME:ADT
DTSTART:20260308T060000
END:DAYLIGHT
BEGIN:STANDARD
TZOFFSETFROM:-0300
TZOFFSETTO:-0400
TZNAME:AST
DTSTART:20261101T050000
END:STANDARD
BEGIN:DAYLIGHT
TZOFFSETFROM:-0400
TZOFFSETTO:-0300
TZNAME:ADT
DTSTART:20270314T060000
END:DAYLIGHT
BEGIN:STANDARD
TZOFFSETFROM:-0300
TZOFFSETTO:-0400
TZNAME:AST
DTSTART:20271107T050000
END:STANDARD
BEGIN:DAYLIGHT
TZOFFSETFROM:-0400
TZOFFSETTO:-0300
TZNAME:ADT
DTSTART:20280312T060000
END:DAYLIGHT
BEGIN:STANDARD
TZOFFSETFROM:-0300
TZOFFSETTO:-0400
TZNAME:AST
DTSTART:20281105T050000
END:STANDARD
END:VTIMEZONE
BEGIN:VEVENT
DTSTART;VALUE=DATE:20260204
DTEND;VALUE=DATE:20260207
DTSTAMP:20260422T034847
CREATED:20250409T150834Z
LAST-MODIFIED:20251216T000606Z
UID:17471-1770163200-1770422399@foreonline.org
SUMMARY:29th Annual Selby Spine Conference
DESCRIPTION:We invite you to join us February 4-7\, 2026\, for the 29th Annual Selby Spine Conference\, taking place at The Chateaux Deer Valley in Park City\, Utah. \nThis course will address the latest advances and controversies in the field of spine surgery. Through didactic lectures\, interactive panel discussions\, case-based presentations\, and debates\, the esteemed faculty will share their insights on such issues as: \n\nRobotics and navigation\nAI in spine surgery\nSpinal deformity\nUse of biologics\nInterventional and pain procedures\n\nFounded in 1999\, the Selby Spine Conference honors the legacy of Dr. David Selby\, renowned spine surgeon\, decorated war hero\, and gifted artist. He led by example through courage\, humility\, commitment to multidisciplinary inclusion\, and dedication to continuing education. The Selby Spine Conference furthers his mission of supporting the spine surgery team as they develop their knowledge and skills.
URL:https://foreonline.org/event/29th-annual-selby-spine-conference/
LOCATION:The Chateaux Deer Valley\, 7815 Royal Street East\, Park City\, UT\, 84060\, United States
END:VEVENT
BEGIN:VEVENT
DTSTART;VALUE=DATE:20260219
DTEND;VALUE=DATE:20260222
DTSTAMP:20260422T034847
CREATED:20250409T150453Z
LAST-MODIFIED:20251021T032601Z
UID:17469-1771459200-1771718399@foreonline.org
SUMMARY:32nd Annual Tampa Shoulder Course: Arthroplasty & Sports
DESCRIPTION:Mark your calendar to join us for the 32nd Annual Tampa Shoulder Course: Arthroplasty & Sports – one of the longest-running meetings devoted to educating the orthopaedic community on the art and science of shoulder and elbow procedures. \nThe course will take place February 19-21\, 2026\, at FIVE Labs in Tampa\, Florida. \nThe goal of the 32nd Annual Tampa Shoulder Course is to offer attendees tips\, tricks\, and techniques that will help them diagnose and treat common and complex shoulder and elbow conditions such as: \n\nGlenohumeral osteoarthritis\nInstability with and without bone loss\nProximal humerus fractures\nRotator cuff tears\nAnd much more!\n\nIn addition to the mix of didactic presentations\, debates\, and case-based panel discussions\, we will continue our tradition of excellence in hands-on training in the bioskills lab. \nWhile in the lab\, attendees will have the opportunity to observe step-by-step surgical demonstrations and then practice the skills they’ve learned with anatomic specimens under the guidance of our highly experienced faculty.
URL:https://foreonline.org/event/32nd-annual-tampa-shoulder-course-arthroplasty-sports/
LOCATION:FIVE Labs Tampa\, 4115 W Spruce St\, Tampa\, FL\, 33607\, United States
END:VEVENT
BEGIN:VEVENT
DTSTART;VALUE=DATE:20260327
DTEND;VALUE=DATE:20260329
DTSTAMP:20260422T034847
CREATED:20251114T194706Z
LAST-MODIFIED:20251121T004423Z
UID:17627-1774569600-1774742399@foreonline.org
SUMMARY:Tampa Revision Arthroplasty Course
DESCRIPTION:Join us for the inaugural Tampa Revision Arthroplasty Course (TRAC)\, to be held March 27–28\, 2026\, at FIVE Labs in Tampa\, Florida. This intensive 2-day program combines high-level education with hands-on surgical training in revision total hip and total knee arthroplasty. \nCourse highlights include: \nComprehensive educational sessions addressing current challenges in revision hip and knee arthroplasty — featuring expert presentations\, interactive case-based panels\, and live surgical demonstrations. \nBioskills lab each day\, allowing attendees to practice techniques for removing primary implants and refine their skills in implanting revision components. \nWorld-class faculty led by course chairs Thomas Bernasek\, MD; Christopher Grayson\, MD; Steven Lyons\, MD; Michael Miranda\, DO; and Brian Palumbo\, MD\, from the renowned Florida Orthopaedic Institute. \nDynamic exhibit hall featuring the latest technologies\, instrumentation\, and implant systems designed to simplify complex revisions and optimize outcomes.
URL:https://foreonline.org/event/tampa-revision-arthroplasty-course/
LOCATION:FIVE Labs Tampa\, 4115 W Spruce St\, Tampa\, FL\, 33607\, United States
END:VEVENT
BEGIN:VEVENT
DTSTART;VALUE=DATE:20260429
DTEND;VALUE=DATE:20260503
DTSTAMP:20260422T034847
CREATED:20251029T164821Z
LAST-MODIFIED:20251029T164821Z
UID:17608-1777420800-1777766399@foreonline.org
SUMMARY:Southernmost Spine Symposium
DESCRIPTION:Surgeons will further their education in spine surgery at the inaugural Southernmost Spine Symposium\, an evolution of the renowned Castellvi Spine Symposium that blends cutting-edge surgical innovation with the unforgettable charm of Key West. \nThe course will be held April 29-May 2\, 2026\, at the Casa Marina Key West in Key West\, Florida. \nThe immersive program of this course will focus on techniques and technologies surgeons need to master to thrive in today’s healthcare environment\, such as: \n\nAI and next-generation technologies\nRobotic and navigation‑assisted surgery\nCervical endoscopic surgery\nSpine surgery in the “fourth age”\nAugmented and virtual reality in education and practice
URL:https://foreonline.org/event/southernmost-spine-symposium/
LOCATION:Casa Marina Key West\, 1500 Reynolds Street\, Key West\, FL\, 33040\, United States
END:VEVENT
BEGIN:VEVENT
DTSTART;VALUE=DATE:20261008
DTEND;VALUE=DATE:20261011
DTSTAMP:20260422T034847
CREATED:20251205T215613Z
LAST-MODIFIED:20260120T215847Z
UID:17637-1791417600-1791676799@foreonline.org
SUMMARY:International Masters Anterior Course
DESCRIPTION:Please join us for the 2026 International Masters Anterior Course (IMACx)\, to be held October 8-10\, 2026\, at The Westin Houston Medical Center in Houston\, Texas. \nThe course will feature: \n\nIntensive 3-day education on surgical techniques\, including modifications and extensions\, for primary and revision direct anterior approach total hip arthroplasty\nDidactic presentations and interactive case-based panel discussions with an internationally renowned faculty of surgical masters in the direct anterior approach\nSurgical demonstrations showcasing the latest advancements in the direct anterior hip approach\nPrimary and Revision bioskills labs to accommodate attendees’ different levels of experience.
URL:https://foreonline.org/event/international-masters-anterior-course/
LOCATION:Westin Houston Medical Center\, 1709 Dryden Road\, Houston\, TX\, United States
END:VEVENT
BEGIN:VEVENT
DTSTART;VALUE=DATE:20261022
DTEND;VALUE=DATE:20261025
DTSTAMP:20260422T034847
CREATED:20260111T033423Z
LAST-MODIFIED:20260127T215516Z
UID:17651-1792627200-1792886399@foreonline.org
SUMMARY:Critical Concepts in Shoulder & Elbow Surgery
DESCRIPTION:You’re invited to join us for Critical Concepts in Shoulder & Elbow Surgery\, the most comprehensive hands-on experience in shoulder and elbow procedures. This course will be held October 22-24\, 2026\, at FIVE Labs Las Vegas\, and will offer: \n\nMultiple opportunities for valuable hands-on experience with anatomic specimens in our state-of-the-art bioskills lab\nLive and recorded surgical technique demonstrations that offer insights on a variety of shoulder and elbow procedures\nFewer didactic lectures and more practical surgical pearls – no “death by PowerPoint” at this course! \nAn Interactive Technology & Biologics Showcase on Thursday that highlights the latest advanced technologies
URL:https://foreonline.org/event/critical-concepts-in-shoulder-elbow-surgery-2-2/
LOCATION:FIVE Labs Las Vegas\, 4100 W Flamingo Rd\, Suite 1000\, Las Vegas\, NV\, 89103\, United States
END:VEVENT
BEGIN:VEVENT
DTSTART;VALUE=DATE:20270127
DTEND;VALUE=DATE:20270131
DTSTAMP:20260422T034847
CREATED:20260227T184602Z
LAST-MODIFIED:20260415T232937Z
UID:17707-1801008000-1801353599@foreonline.org
SUMMARY:30th Annual Selby Spine Conference
DESCRIPTION:We invite you to join us for the 30th anniversary of the Selby Spine Conference\, to be held January 27-30\, 2027\, at The Chateaux Deer Valley in Park City\, Utah. \nThis course will address the latest advances and controversies in the field of spine surgery. Through didactic lectures\, interactive panel discussions\, case-based presentations\, and debates\, the esteemed faculty will share their insights on such issues as: \n\nReconstructing the cervical spine\nArtificial intelligence in spine surgery\nThe renaissance of motion preservation\nOutcomes and metrics in spine surgery\nLessons learned from surgical complications\nThe outpatient spine revolution\n\nThe Selby Spine Conference honors the legacy of Dr. David Selby\, renowned spine surgeon\, decorated war hero\, and gifted artist. He led by example through courage\, humility\, commitment to multidisciplinary inclusion\, and dedication to continuing education. The Selby Spine Conference furthers his mission of supporting the spine surgery team as they develop their knowledge and skills.
URL:https://foreonline.org/event/30th-annual-selby-spine-conference/
LOCATION:The Chateaux Deer Valley\, 7815 Royal Street East\, Park City\, UT\, 84060\, United States
END:VEVENT
END:VCALENDAR