BEGIN:VCALENDAR
VERSION:2.0
PRODID:-//Foundation for Orthopaedic Research and Education (FORE) - ECPv6.15.17.1//NONSGML v1.0//EN
CALSCALE:GREGORIAN
METHOD:PUBLISH
X-WR-CALNAME:Foundation for Orthopaedic Research and Education (FORE)
X-ORIGINAL-URL:https://foreonline.org
X-WR-CALDESC:Events for Foundation for Orthopaedic Research and Education (FORE)
REFRESH-INTERVAL;VALUE=DURATION:PT1H
X-Robots-Tag:noindex
X-PUBLISHED-TTL:PT1H
BEGIN:VTIMEZONE
TZID:America/Halifax
BEGIN:DAYLIGHT
TZOFFSETFROM:-0400
TZOFFSETTO:-0300
TZNAME:ADT
DTSTART:20210314T060000
END:DAYLIGHT
BEGIN:STANDARD
TZOFFSETFROM:-0300
TZOFFSETTO:-0400
TZNAME:AST
DTSTART:20211107T050000
END:STANDARD
BEGIN:DAYLIGHT
TZOFFSETFROM:-0400
TZOFFSETTO:-0300
TZNAME:ADT
DTSTART:20220313T060000
END:DAYLIGHT
BEGIN:STANDARD
TZOFFSETFROM:-0300
TZOFFSETTO:-0400
TZNAME:AST
DTSTART:20221106T050000
END:STANDARD
BEGIN:DAYLIGHT
TZOFFSETFROM:-0400
TZOFFSETTO:-0300
TZNAME:ADT
DTSTART:20230312T060000
END:DAYLIGHT
BEGIN:STANDARD
TZOFFSETFROM:-0300
TZOFFSETTO:-0400
TZNAME:AST
DTSTART:20231105T050000
END:STANDARD
END:VTIMEZONE
BEGIN:VEVENT
DTSTART;VALUE=DATE:20220624
DTEND;VALUE=DATE:20220625
DTSTAMP:20260424T022944
CREATED:20150925T130019Z
LAST-MODIFIED:20220222T174948Z
UID:1881-1656028800-1656115199@foreonline.org
SUMMARY:2022 Orthopaedic Research Day: Graduating Fellows & Residents
DESCRIPTION:If you are not re-directed to our new CVENThttps://cvent.me/Bxv7Xm registration site\, please click here. 
URL:https://foreonline.org/event/ord2022/
LOCATION:Florida InnoVation and Education (FIVE) Labs\, 4115 W Spruce Street\, Tampa\, FL\, 33607\, United States
ATTACH;FMTTYPE=image/jpeg:https://foreonline.org/wp-content/uploads/2022/02/2022_ORD_Register_Banner.jpg
END:VEVENT
END:VCALENDAR