BEGIN:VCALENDAR
VERSION:2.0
PRODID:-//Foundation for Orthopaedic Research and Education (FORE) - ECPv6.15.17.1//NONSGML v1.0//EN
CALSCALE:GREGORIAN
METHOD:PUBLISH
X-ORIGINAL-URL:https://foreonline.org
X-WR-CALDESC:Events for Foundation for Orthopaedic Research and Education (FORE)
REFRESH-INTERVAL;VALUE=DURATION:PT1H
X-Robots-Tag:noindex
X-PUBLISHED-TTL:PT1H
BEGIN:VTIMEZONE
TZID:America/Halifax
BEGIN:DAYLIGHT
TZOFFSETFROM:-0400
TZOFFSETTO:-0300
TZNAME:ADT
DTSTART:20210314T060000
END:DAYLIGHT
BEGIN:STANDARD
TZOFFSETFROM:-0300
TZOFFSETTO:-0400
TZNAME:AST
DTSTART:20211107T050000
END:STANDARD
BEGIN:DAYLIGHT
TZOFFSETFROM:-0400
TZOFFSETTO:-0300
TZNAME:ADT
DTSTART:20220313T060000
END:DAYLIGHT
BEGIN:STANDARD
TZOFFSETFROM:-0300
TZOFFSETTO:-0400
TZNAME:AST
DTSTART:20221106T050000
END:STANDARD
BEGIN:DAYLIGHT
TZOFFSETFROM:-0400
TZOFFSETTO:-0300
TZNAME:ADT
DTSTART:20230312T060000
END:DAYLIGHT
BEGIN:STANDARD
TZOFFSETFROM:-0300
TZOFFSETTO:-0400
TZNAME:AST
DTSTART:20231105T050000
END:STANDARD
END:VTIMEZONE
BEGIN:VEVENT
DTSTART;VALUE=DATE:20220126
DTEND;VALUE=DATE:20220130
DTSTAMP:20260424T084005
CREATED:20150918T052106Z
LAST-MODIFIED:20211014T153930Z
UID:1674-1643155200-1643500799@foreonline.org
SUMMARY:25th Annual Selby Spine Conference
DESCRIPTION:If you are not re-directed to our new CVENT registration site\, please click here. 
URL:https://foreonline.org/event/selbyspine2022/
LOCATION:Westgate Park City\, 3000 Canyons Resort Dr\, Park City\, UT\, 84098\, United States
ATTACH;FMTTYPE=image/jpeg:https://foreonline.org/wp-content/uploads/2015/09/2022_Selby_Register_Banner.jpg
END:VEVENT
END:VCALENDAR